BEGIN:VCALENDAR
VERSION:2.0
PRODID:-//Heba El Moaz - ECPv6.15.20//NONSGML v1.0//EN
CALSCALE:GREGORIAN
METHOD:PUBLISH
X-WR-CALNAME:Heba El Moaz
X-ORIGINAL-URL:https://helmoaz.com
X-WR-CALDESC:Events for Heba El Moaz
REFRESH-INTERVAL;VALUE=DURATION:PT1H
X-Robots-Tag:noindex
X-PUBLISHED-TTL:PT1H
BEGIN:VTIMEZONE
TZID:UTC
BEGIN:STANDARD
TZOFFSETFROM:+0000
TZOFFSETTO:+0000
TZNAME:UTC
DTSTART:20210101T000000
END:STANDARD
END:VTIMEZONE
BEGIN:VEVENT
DTSTART;VALUE=DATE:20221021
DTEND;VALUE=DATE:20221024
DTSTAMP:20260423T023857
CREATED:20221019T121520Z
LAST-MODIFIED:20221019T121521Z
UID:15184-1666310400-1666569599@helmoaz.com
SUMMARY:AKKA Art & design fair Paris – October 21-23\, 2022
DESCRIPTION:
URL:https://helmoaz.com/event/akka-art-design-fair-paris-october-21-23-2022/
CATEGORIES:Art
END:VEVENT
END:VCALENDAR